BEGIN:VCALENDAR
VERSION:2.0
PRODID:-//eventon.com NONSGML v1.0//EN
CALSCALE:GREGORIAN
METHOD:PUBLISH
BEGIN:VEVENT
UID:69ec992fe02dc
DTSTAMP:20260425T103631Z
DTSTART:20261110T183000Z
DTEND:20261110T203000Z
LOCATION:Gebouw I AM Loved | Opstandingskerk Rijksstraatweg 95\,  2988 BB\,  Ridderkerk-Rijsoord
SUMMARY:I AM Yours - Ridderkerk
DESCRIPTION:I Am Yours is een reis van overgave en discipelschap. In 16 avo
 nden leer je leven met Jezus\,  krachtig\,  persoonlijk en transformerend. 
 Niet alleen weten\,  maar ook leren doen. Meer informatie en aanmelden klik
  hier\nhttps://iamloved.nl/event/start-i-am-yours-ridderkerk/var/ri-13.l-L1
URL:https://iamloved.nl/event/start-i-am-yours-ridderkerk/var/ri-13.l-L1
END:VEVENT
END:VCALENDAR